Index of /checkResults/release/bioc-LATEST/ADAM/raw-results/palomino3

[ICO]NameLast modifiedSizeDescription

[DIR]Parent Directory  -  
[TXT]buildbin-out.txt26-Sep-2023 00:36 2.0K 
[   ]buildbin-summary.dcf26-Sep-2023 00:36 497  
[TXT]buildsrc-out.txt26-Sep-2023 00:36 916  
[   ]buildsrc-summary.dcf26-Sep-2023 00:36 440  
[TXT]checksrc-out.txt26-Sep-2023 00:36 4.3K 
[   ]checksrc-summary.dcf26-Sep-2023 00:36 435  
[TXT]install-out.txt26-Sep-2023 00:36 1.8K 
[   ]install-summary.dcf26-Sep-2023 00:36 262