![]() | Name | Last modified | Size | Description |
---|---|---|---|---|
![]() | Parent Directory | - | ||
![]() | buildsrc-out.txt | 03-Oct-2023 00:35 | 887 | |
![]() | buildsrc-summary.dcf | 03-Oct-2023 00:35 | 408 | |
![]() | checksrc-out.txt | 03-Oct-2023 00:35 | 4.3K | |
![]() | checksrc-summary.dcf | 03-Oct-2023 00:35 | 402 | |
![]() | install-out.txt | 03-Oct-2023 00:35 | 1.7K | |
![]() | install-summary.dcf | 03-Oct-2023 00:35 | 253 | |