Index of /checkResults/release/bioc-LATEST/ADAM/raw-results
Name
Last modified
Size
Description
Parent Directory
-
nebbiolo1/
01-Oct-2023 00:35
-
palomino3/
01-Oct-2023 00:36
-
info.dcf
01-Oct-2023 00:36
276
merida1/
01-Oct-2023 00:36
-