Index of /checkResults/release/bioc-LATEST/ACME/raw-results
Name
Last modified
Size
Description
Parent Directory
-
info.dcf
23-May-2024 00:33
263
palomino3/
23-May-2024 00:35
-
nebbiolo1/
23-May-2024 00:34
-
merida1/
05-Mar-2024 01:38
-
lconway/
23-May-2024 00:36
-
kunpeng2/
10-May-2024 00:40
-