Index of /checkResults/release/bioc-LATEST/ACE/raw-results/palomino3

[ICO]NameLast modifiedSizeDescription

[DIR]Parent Directory  -  
[TXT]buildbin-out.txt25-Jun-2022 01:05 1.1K 
[   ]buildbin-summary.dcf25-Jun-2022 01:05 491  
[TXT]buildsrc-out.txt25-Jun-2022 01:05 819  
[   ]buildsrc-summary.dcf25-Jun-2022 01:05 434  
[TXT]checksrc-out.txt25-Jun-2022 01:05 3.5K 
[   ]checksrc-summary.dcf25-Jun-2022 01:05 431  
[TXT]install-out.txt25-Jun-2022 01:05 1.0K 
[   ]install-summary.dcf25-Jun-2022 01:05 260