Index of /checkResults/release/bioc-LATEST/ACE/raw-results/nebbiolo1

[ICO]NameLast modifiedSizeDescription

[DIR]Parent Directory  -  
[TXT]buildsrc-out.txt28-Jun-2022 00:09 790  
[   ]buildsrc-summary.dcf28-Jun-2022 00:09 405  
[TXT]checksrc-out.txt28-Jun-2022 00:09 3.5K 
[   ]checksrc-summary.dcf28-Jun-2022 00:09 408  
[TXT]install-out.txt28-Jun-2022 00:09 1.0K 
[   ]install-summary.dcf28-Jun-2022 00:09 251