Index of /checkResults/release/bioc-LATEST/ABSSeq/raw-results

[ICO]NameLast modifiedSizeDescription

[DIR]Parent Directory  -  
[   ]info.dcf05-Dec-2023 01:37 274  
[DIR]kunpeng2/03-Nov-2023 00:40 -  
[DIR]lconway/05-Dec-2023 01:37 -  
[DIR]nebbiolo2/05-Dec-2023 01:35 -  
[DIR]palomino4/05-Dec-2023 01:36 -