Index of /checkResults/devel/workflows-LATEST/variants/raw-results/palomino6
Name
Last modified
Size
Description
Parent Directory
-
buildsrc-out.txt
10-Jul-2024 05:30
922
buildsrc-summary.dcf
10-Jul-2024 05:30
461
install-out.txt
10-Jul-2024 05:30
961
install-summary.dcf
10-Jul-2024 05:30
276