Index of /checkResults/devel/workflows-LATEST/variants/raw-results/palomino4
Name
Last modified
Size
Description
Parent Directory
-
buildsrc-out.txt
15-Jun-2024 05:30
916
buildsrc-summary.dcf
15-Jun-2024 05:30
456
install-out.txt
15-Jun-2024 05:30
949
install-summary.dcf
15-Jun-2024 05:30
270