Index of /checkResults/devel/workflows-LATEST/spicyWorkflow/raw-results/palomino4
Name
Last modified
Size
Description
Parent Directory
-
buildsrc-out.txt
12-Jun-2024 05:30
1.2K
buildsrc-summary.dcf
12-Jun-2024 05:30
386
install-out.txt
15-Jun-2024 05:30
969
install-summary.dcf
15-Jun-2024 05:30
279