Back to Workflows build report for BioC 3.18 |
This page was generated on 2023-09-22 14:00:11 -0400 (Fri, 22 Sep 2023).
Hostname | OS | Arch (*) | R version | Installed pkgs |
---|---|---|---|---|
nebbiolo2 | Linux (Ubuntu 22.04.2 LTS) | x86_64 | 4.3.1 (2023-06-16) -- "Beagle Scouts" | 4659 |
palomino4 | Windows Server 2022 Datacenter | x64 | 4.3.1 (2023-06-16 ucrt) -- "Beagle Scouts" | 4394 |
lconway | macOS 12.6.5 Monterey | x86_64 | 4.3.1 Patched (2023-06-17 r84564) -- "Beagle Scouts" | 4408 |
Click on any hostname to see more info about the system (e.g. compilers) (*) as reported by 'uname -p', except on Windows and Mac OS X |
Package 28/30 | Hostname | OS / Arch | INSTALL | BUILD | ||||||||
spicyWorkflow 1.1.0 (landing page) SOMS Maintainer
| nebbiolo2 | Linux (Ubuntu 22.04.2 LTS) / x86_64 | OK | ERROR | ||||||||
palomino4 | Windows Server 2022 Datacenter / x64 | OK | ERROR | |||||||||
lconway | macOS 12.6.5 Monterey / x86_64 | OK | ERROR | |||||||||
To the developers/maintainers of the spicyWorkflow package: - Use the following Renviron settings to reproduce errors and warnings. - If 'R CMD check' started to fail recently on the Linux builder(s) over a missing dependency, add the missing dependency to 'Suggests:' in your DESCRIPTION file. See Renviron.bioc for more information. |
Package: spicyWorkflow |
Version: 1.1.0 |
Command: F:\biocbuild\bbs-3.18-bioc\R\bin\R.exe CMD INSTALL spicyWorkflow |
StartedAt: 2023-09-22 11:01:21 -0400 (Fri, 22 Sep 2023) |
EndedAt: 2023-09-22 11:02:28 -0400 (Fri, 22 Sep 2023) |
EllapsedTime: 67.0 seconds |
RetCode: 0 |
Status: OK |
############################################################################## ############################################################################## ### ### Running command: ### ### F:\biocbuild\bbs-3.18-bioc\R\bin\R.exe CMD INSTALL spicyWorkflow ### ############################################################################## ############################################################################## * installing to library 'F:/biocbuild/bbs-3.18-bioc/R/library' * installing *source* package 'spicyWorkflow' ... ** using staged installation ** inst ** help No man pages found in package 'spicyWorkflow' *** installing help indices ** building package indices ** installing vignettes ** testing if installed package can be loaded from temporary location ** testing if installed package can be loaded from final location ** testing if installed package keeps a record of temporary installation path * DONE (spicyWorkflow)