Index of /checkResults/devel/workflows-LATEST/simpleSingleCell/raw-results/nebbiolo2
Name
Last modified
Size
Description
Parent Directory
-
buildsrc-out.txt
10-Jul-2024 05:30
882
buildsrc-summary.dcf
10-Jul-2024 05:30
444
install-out.txt
10-Jul-2024 05:30
1.0K
install-summary.dcf
10-Jul-2024 05:30
276