Index of /checkResults/devel/workflows-LATEST/simpleSingleCell/raw-results/lconway
Name
Last modified
Size
Description
Parent Directory
-
buildsrc-out.txt
10-Jul-2024 05:30
892
buildsrc-summary.dcf
10-Jul-2024 05:30
454
install-out.txt
10-Jul-2024 05:30
1.0K
install-summary.dcf
10-Jul-2024 05:30
286