Index of /checkResults/devel/workflows-LATEST/sequencing/raw-results/merida1
Name
Last modified
Size
Description
Parent Directory
-
install-summary.dcf
01-Jun-2024 05:30
275
buildsrc-summary.dcf
01-Jun-2024 05:30
437
buildsrc-out.txt
01-Jun-2024 05:30
902
install-out.txt
01-Jun-2024 05:30
1.0K