Back to Workflows build report for BioC 3.18 |
This page was generated on 2023-09-29 14:00:12 -0400 (Fri, 29 Sep 2023).
Hostname | OS | Arch (*) | R version | Installed pkgs |
---|---|---|---|---|
nebbiolo2 | Linux (Ubuntu 22.04.2 LTS) | x86_64 | 4.3.1 (2023-06-16) -- "Beagle Scouts" | 4660 |
palomino4 | Windows Server 2022 Datacenter | x64 | 4.3.1 (2023-06-16 ucrt) -- "Beagle Scouts" | 4395 |
lconway | macOS 12.6.5 Monterey | x86_64 | 4.3.1 Patched (2023-06-17 r84564) -- "Beagle Scouts" | 4415 |
Click on any hostname to see more info about the system (e.g. compilers) (*) as reported by 'uname -p', except on Windows and Mac OS X |
Package 21/30 | Hostname | OS / Arch | INSTALL | BUILD | ||||||||
rnaseqDTU 1.21.1 (landing page) Michael Love
| nebbiolo2 | Linux (Ubuntu 22.04.2 LTS) / x86_64 | OK | OK | ![]() | |||||||
palomino4 | Windows Server 2022 Datacenter / x64 | OK | OK | |||||||||
lconway | macOS 12.6.5 Monterey / x86_64 | OK | OK | |||||||||
To the developers/maintainers of the rnaseqDTU package: - Use the following Renviron settings to reproduce errors and warnings. - If 'R CMD check' started to fail recently on the Linux builder(s) over a missing dependency, add the missing dependency to 'Suggests:' in your DESCRIPTION file. See Renviron.bioc for more information. |
Package: rnaseqDTU |
Version: 1.21.1 |
Command: F:\biocbuild\bbs-3.18-bioc\R\bin\R.exe CMD INSTALL rnaseqDTU |
StartedAt: 2023-09-29 11:01:20 -0400 (Fri, 29 Sep 2023) |
EndedAt: 2023-09-29 11:02:12 -0400 (Fri, 29 Sep 2023) |
EllapsedTime: 52.9 seconds |
RetCode: 0 |
Status: OK |
############################################################################## ############################################################################## ### ### Running command: ### ### F:\biocbuild\bbs-3.18-bioc\R\bin\R.exe CMD INSTALL rnaseqDTU ### ############################################################################## ############################################################################## * installing to library 'F:/biocbuild/bbs-3.18-bioc/R/library' * installing *source* package 'rnaseqDTU' ... ** using staged installation ** R ** data *** moving datasets to lazyload DB ** inst ** byte-compile and prepare package for lazy loading ** help *** installing help indices ** building package indices ** installing vignettes ** testing if installed package can be loaded from temporary location ** testing if installed package can be loaded from final location ** testing if installed package keeps a record of temporary installation path * DONE (rnaseqDTU)