Back to Workflows build report for BioC 3.18

This page was generated on 2023-09-29 14:00:12 -0400 (Fri, 29 Sep 2023).

HostnameOSArch (*)R versionInstalled pkgs
nebbiolo2Linux (Ubuntu 22.04.2 LTS)x86_644.3.1 (2023-06-16) -- "Beagle Scouts" 4660
palomino4Windows Server 2022 Datacenterx644.3.1 (2023-06-16 ucrt) -- "Beagle Scouts" 4395
lconwaymacOS 12.6.5 Montereyx86_644.3.1 Patched (2023-06-17 r84564) -- "Beagle Scouts" 4415
Click on any hostname to see more info about the system (e.g. compilers)      (*) as reported by 'uname -p', except on Windows and Mac OS X

Package 21/30HostnameOS / ArchINSTALLBUILD
rnaseqDTU 1.21.1  (landing page)
Michael Love
Snapshot Date: 2023-09-29 10:45:01 -0400 (Fri, 29 Sep 2023)
git_url: https://git.bioconductor.org/packages/rnaseqDTU
git_branch: devel
git_last_commit: 90de696
git_last_commit_date: 2023-08-20 08:33:21 -0400 (Sun, 20 Aug 2023)
nebbiolo2Linux (Ubuntu 22.04.2 LTS) / x86_64  OK    OK  NO, package depends on 'DEXSeq' which is not available
palomino4Windows Server 2022 Datacenter / x64  OK    OK  
lconwaymacOS 12.6.5 Monterey / x86_64  OK    OK  

BUILD results for rnaseqDTU on palomino4


To the developers/maintainers of the rnaseqDTU package:
- Use the following Renviron settings to reproduce errors and warnings.
- If 'R CMD check' started to fail recently on the Linux builder(s) over a missing dependency, add the missing dependency to 'Suggests:' in your DESCRIPTION file. See Renviron.bioc for more information.

raw results


Summary

Package: rnaseqDTU
Version: 1.21.1
Command: chmod a+r rnaseqDTU -R && F:\biocbuild\bbs-3.18-bioc\R\bin\R.exe CMD build --keep-empty-dirs --no-resave-data rnaseqDTU
StartedAt: 2023-09-29 11:08:52 -0400 (Fri, 29 Sep 2023)
EndedAt: 2023-09-29 11:11:06 -0400 (Fri, 29 Sep 2023)
EllapsedTime: 133.2 seconds
RetCode: 0
Status:   OK  
PackageFile: rnaseqDTU_1.21.1.tar.gz
PackageFileSize: 8.154 MiB

Command output

##############################################################################
##############################################################################
###
### Running command:
###
###   chmod a+r rnaseqDTU -R && F:\biocbuild\bbs-3.18-bioc\R\bin\R.exe CMD build --keep-empty-dirs --no-resave-data rnaseqDTU
###
##############################################################################
##############################################################################


* checking for file 'rnaseqDTU/DESCRIPTION' ... OK
* preparing 'rnaseqDTU':
* checking DESCRIPTION meta-information ... OK
* installing the package to build vignettes
* creating vignettes ... OK
* checking for LF line-endings in source and make files and shell scripts
* checking for empty or unneeded directories
* building 'rnaseqDTU_1.21.1.tar.gz'