Index of /checkResults/devel/workflows-LATEST/maEndToEnd/raw-results/palomino4
Name
Last modified
Size
Description
Parent Directory
-
buildsrc-out.txt
12-Jun-2024 05:30
1.0K
buildsrc-summary.dcf
12-Jun-2024 05:30
379
install-out.txt
15-Jun-2024 05:30
1.1K
install-summary.dcf
15-Jun-2024 05:30
275