Index of /checkResults/devel/workflows-LATEST/maEndToEnd/raw-results
Name
Last modified
Size
Description
Parent Directory
-
info.dcf
08-May-2024 03:00
281
merida1/
08-May-2024 03:00
-
nebbiolo2/
08-May-2024 03:00
-
palomino4/
08-May-2024 03:00
-