Workflows build report for BioC 3.16

This page was generated on 2022-06-24 21:00:08 -0400 (Fri, 24 Jun 2022).

Approx. Package Snapshot Date (git pull): 2022-06-24 14:45:01 -0400 (Fri, 24 Jun 2022)

HostnameOSArch (*)R versionInstalled pkgs
nebbiolo2Linux (Ubuntu 20.04.4 LTS)x86_644.2.0 Patched (2022-06-02 r82447) -- "Vigorous Calisthenics" 4326
palomino4Windows Server 2022 Datacenterx644.2.0 Patched (2022-06-02 r82447 ucrt) -- "Vigorous Calisthenics" 4136
lconwaymacOS 12.2.1 Montereyx86_644.2.0 Patched (2022-05-29 r82424) -- "Vigorous Calisthenics" 4147
Click on any hostname to see more info about the system (e.g. compilers)      (*) as reported by 'uname -p', except on Windows and Mac OS X

Package status is indicated by one of the following glyphs
  TIMEOUT  
INSTALL or BUILD of package took more than 40 or 120 minutes, respectively
  ERROR  
Bad DESCRIPTION file, or INSTALL or BUILD of package failed
  OK  
INSTALL or BUILD of package went OK
  NA  
INSTALL or BUILD result is not available because of an anomaly in the Build System
Click on any glyph in the report below to access the detailed report.
Package propagation status is indicated by one of the following LEDs
YES YES: Package was propagated because it didn't previously exist or version was bumped
NO NO: Package was not propagated because of a problem (impossible dependencies, or version lower than what is already propagated)
UNNEEDED UNNEEDED: Package was not propagated because it is already in the repository with this version. A version bump is required in order to propagate it

A crossed-out package name indicates the package is deprecated


QUICK STATSOS / ArchINSTALLBUILD
nebbiolo2Linux (Ubuntu 20.04.4 LTS) / x86_64
0028
01810
palomino4Windows Server 2022 Datacenter / x64
0024
0222
lconwaymacOS 12.2.1 Monterey / x86_64
0126
0423
Package 1/28HostnameOS / ArchINSTALLBUILD
annotation 1.21.1  (landing page)
Bioconductor Package Maintainer
git_last_commit: fe3006e
git_last_commit_date: 2022-05-12 12:47:51 -0400
nebbiolo2Linux (Ubuntu 20.04.4 LTS) / x86_64  OK    ERROR  
palomino4Windows Server 2022 Datacenter / x64  OK    OK  
lconwaymacOS 12.2.1 Monterey / x86_64  OK    OK  
Package 2/28HostnameOS / ArchINSTALLBUILD
arrays 1.23.0  (landing page)
Bioconductor Package Maintainer
git_last_commit: 46df51b
git_last_commit_date: 2022-04-26 12:40:17 -0400
nebbiolo2Linux (Ubuntu 20.04.4 LTS) / x86_64  OK    ERROR  
palomino4Windows Server 2022 Datacenter / x64  OK    OK  
lconwaymacOS 12.2.1 Monterey / x86_64  OK    OK  
Package 3/28HostnameOS / ArchINSTALLBUILD
BiocMetaWorkflow 1.19.0  (landing page)
Mike Smith
git_last_commit: dcbd786
git_last_commit_date: 2022-04-26 12:41:11 -0400
nebbiolo2Linux (Ubuntu 20.04.4 LTS) / x86_64  OK    OK  UNNEEDED, same version is already published
palomino4Windows Server 2022 Datacenter / x64  OK    OK  
lconwaymacOS 12.2.1 Monterey / x86_64  OK    OK  
Package 4/28HostnameOS / ArchINSTALLBUILD
BP4RNAseq 1.7.0  (landing page)
Shanwen Sun
git_last_commit: 2589f83
git_last_commit_date: 2022-04-26 12:41:32 -0400
nebbiolo2Linux (Ubuntu 20.04.4 LTS) / x86_64  OK    OK  UNNEEDED, same version is already published
palomino4Windows Server 2022 Datacenter / x64  OK    OK  
lconwaymacOS 12.2.1 Monterey / x86_64  OK    OK  
Package 5/28HostnameOS / ArchINSTALLBUILD
CAGEWorkflow 1.13.0  (landing page)
Malte Thodberg
git_last_commit: 4489965
git_last_commit_date: 2022-04-26 12:41:25 -0400
nebbiolo2Linux (Ubuntu 20.04.4 LTS) / x86_64  OK    ERROR  
palomino4Windows Server 2022 Datacenter / x64... NOT SUPPORTED ...
lconwaymacOS 12.2.1 Monterey / x86_64  OK    OK  
Package 6/28HostnameOS / ArchINSTALLBUILD
chipseqDB 1.21.0  (landing page)
Aaron Lun
git_last_commit: fbfdb63
git_last_commit_date: 2022-04-26 12:40:20 -0400
nebbiolo2Linux (Ubuntu 20.04.4 LTS) / x86_64  OK    OK  UNNEEDED, same version is already published
palomino4Windows Server 2022 Datacenter / x64... NOT SUPPORTED ...
lconwaymacOS 12.2.1 Monterey / x86_64  OK    OK  
Package 7/28HostnameOS / ArchINSTALLBUILD
csawUsersGuide 1.13.0  (landing page)
Aaron Lun
git_last_commit: b904d43
git_last_commit_date: 2022-04-26 12:41:20 -0400
nebbiolo2Linux (Ubuntu 20.04.4 LTS) / x86_64  OK    OK  UNNEEDED, same version is already published
palomino4Windows Server 2022 Datacenter / x64  OK    OK  
lconwaymacOS 12.2.1 Monterey / x86_64  OK    OK  
Package 8/28HostnameOS / ArchINSTALLBUILD
cytofWorkflow 1.21.0  (landing page)
Mark D. Robinson
git_last_commit: 896eeaa
git_last_commit_date: 2022-04-26 12:40:23 -0400
nebbiolo2Linux (Ubuntu 20.04.4 LTS) / x86_64  OK    ERROR  
palomino4Windows Server 2022 Datacenter / x64  OK    OK  
lconwaymacOS 12.2.1 Monterey / x86_64  OK    OK  
Package 9/28HostnameOS / ArchINSTALLBUILD
EGSEA123 1.21.0  (landing page)
Matthew Ritchie
git_last_commit: 24f7c9f
git_last_commit_date: 2022-04-26 12:40:25 -0400
nebbiolo2Linux (Ubuntu 20.04.4 LTS) / x86_64  OK    ERROR  
palomino4Windows Server 2022 Datacenter / x64  OK    OK  
lconwaymacOS 12.2.1 Monterey / x86_64  OK    OK  
Package 10/28HostnameOS / ArchINSTALLBUILD
ExpHunterSuite 1.5.0  (landing page)
James Perkins
git_last_commit: 51c618e
git_last_commit_date: 2022-04-26 12:41:35 -0400
nebbiolo2Linux (Ubuntu 20.04.4 LTS) / x86_64  OK    OK  UNNEEDED, same version is already published
palomino4Windows Server 2022 Datacenter / x64  OK    OK  
lconwaymacOS 12.2.1 Monterey / x86_64  OK    OK  
Package 11/28HostnameOS / ArchINSTALLBUILD
ExpressionNormalizationWorkflow 1.23.0  (landing page)
Karthikeyan Murugesan
git_last_commit: 6c6726e
git_last_commit_date: 2022-04-26 12:40:28 -0400
nebbiolo2Linux (Ubuntu 20.04.4 LTS) / x86_64  OK    ERROR  
palomino4Windows Server 2022 Datacenter / x64  OK    OK  
lconwaymacOS 12.2.1 Monterey / x86_64  OK    OK  
Package 12/28HostnameOS / ArchINSTALLBUILD
fluentGenomics 1.9.0  (landing page)
Stuart Lee
git_last_commit: 3e695ce
git_last_commit_date: 2022-04-26 12:41:29 -0400
nebbiolo2Linux (Ubuntu 20.04.4 LTS) / x86_64  OK    ERROR  
palomino4Windows Server 2022 Datacenter / x64  OK    OK  
lconwaymacOS 12.2.1 Monterey / x86_64  OK    ERROR  
Package 13/28HostnameOS / ArchINSTALLBUILD
generegulation 1.21.0  (landing page)
Bioconductor Package Maintainer
git_last_commit: c214160
git_last_commit_date: 2022-04-26 12:40:32 -0400
nebbiolo2Linux (Ubuntu 20.04.4 LTS) / x86_64  OK    ERROR  
palomino4Windows Server 2022 Datacenter / x64  OK    OK  
lconwaymacOS 12.2.1 Monterey / x86_64  OK    OK  
Package 14/28HostnameOS / ArchINSTALLBUILD
GeoMxWorkflows 1.3.0  (landing page)
Jason Reeves
git_last_commit: 1ee1bda
git_last_commit_date: 2022-04-26 12:41:40 -0400
nebbiolo2Linux (Ubuntu 20.04.4 LTS) / x86_64  OK    OK  UNNEEDED, same version is already published
palomino4Windows Server 2022 Datacenter / x64  OK    OK  
lconwaymacOS 12.2.1 Monterey / x86_64  OK    OK  
Package 15/28HostnameOS / ArchINSTALLBUILD
highthroughputassays 1.21.0  (landing page)
Bioconductor Package Maintainer
git_last_commit: 659d172
git_last_commit_date: 2022-04-26 12:40:35 -0400
nebbiolo2Linux (Ubuntu 20.04.4 LTS) / x86_64  OK    ERROR  
palomino4Windows Server 2022 Datacenter / x64... NOT SUPPORTED ...
lconwaymacOS 12.2.1 Monterey / x86_64... NOT SUPPORTED ...
Package 16/28HostnameOS / ArchINSTALLBUILD
liftOver 1.21.0  (landing page)
Bioconductor Package Maintainer
git_last_commit: 84251bc
git_last_commit_date: 2022-04-26 12:40:38 -0400
nebbiolo2Linux (Ubuntu 20.04.4 LTS) / x86_64  OK    OK  UNNEEDED, same version is already published
palomino4Windows Server 2022 Datacenter / x64  OK    OK  
lconwaymacOS 12.2.1 Monterey / x86_64  OK    OK  
Package 17/28HostnameOS / ArchINSTALLBUILD
maEndToEnd 2.17.0  (landing page)
Stefanie Reisenauer
git_last_commit: 89c380c
git_last_commit_date: 2022-04-26 12:41:14 -0400
nebbiolo2Linux (Ubuntu 20.04.4 LTS) / x86_64  OK    ERROR  
palomino4Windows Server 2022 Datacenter / x64  OK    OK  
lconwaymacOS 12.2.1 Monterey / x86_64  OK    ERROR  
Package 18/28HostnameOS / ArchINSTALLBUILD
methylationArrayAnalysis 1.21.0  (landing page)
Jovana Maksimovic
git_last_commit: 4cb35b3
git_last_commit_date: 2022-04-26 12:40:42 -0400
nebbiolo2Linux (Ubuntu 20.04.4 LTS) / x86_64  OK    ERROR  
palomino4Windows Server 2022 Datacenter / x64  OK    OK  
lconwaymacOS 12.2.1 Monterey / x86_64  OK    OK  
Package 19/28HostnameOS / ArchINSTALLBUILD
recountWorkflow 1.21.0  (landing page)
Leonardo Collado-Torres
git_last_commit: 2a9cfb8
git_last_commit_date: 2022-04-26 12:40:47 -0400
nebbiolo2Linux (Ubuntu 20.04.4 LTS) / x86_64  OK    ERROR  
palomino4Windows Server 2022 Datacenter / x64  OK    OK  
lconwaymacOS 12.2.1 Monterey / x86_64  OK    OK  
Package 20/28HostnameOS / ArchINSTALLBUILD
RNAseq123 1.21.0  (landing page)
Matthew Ritchie
git_last_commit: b89657b
git_last_commit_date: 2022-04-26 12:40:50 -0400
nebbiolo2Linux (Ubuntu 20.04.4 LTS) / x86_64  OK    ERROR  
palomino4Windows Server 2022 Datacenter / x64  OK    OK  
lconwaymacOS 12.2.1 Monterey / x86_64  OK    OK  
Package 21/28HostnameOS / ArchINSTALLBUILD
rnaseqDTU 1.17.0  (landing page)
Michael Love
git_last_commit: 13e35e3
git_last_commit_date: 2022-04-26 12:41:17 -0400
nebbiolo2Linux (Ubuntu 20.04.4 LTS) / x86_64  OK    ERROR  
palomino4Windows Server 2022 Datacenter / x64  OK    OK  
lconwaymacOS 12.2.1 Monterey / x86_64  OK    OK  
Package 22/28HostnameOS / ArchINSTALLBUILD
rnaseqGene 1.21.0  (landing page)
Michael Love
git_last_commit: 835d10a
git_last_commit_date: 2022-04-26 12:40:53 -0400
nebbiolo2Linux (Ubuntu 20.04.4 LTS) / x86_64  OK    ERROR  
palomino4Windows Server 2022 Datacenter / x64  OK    OK  
lconwaymacOS 12.2.1 Monterey / x86_64  OK    OK  
Package 23/28HostnameOS / ArchINSTALLBUILD
RnaSeqGeneEdgeRQL 1.21.0  (landing page)
Yunshun Chen
git_last_commit: 85b08bd
git_last_commit_date: 2022-04-26 12:40:56 -0400
nebbiolo2Linux (Ubuntu 20.04.4 LTS) / x86_64  OK    ERROR  
palomino4Windows Server 2022 Datacenter / x64  OK    OK  
lconwaymacOS 12.2.1 Monterey / x86_64  OK    OK  
Package 24/28HostnameOS / ArchINSTALLBUILD
sequencing 1.21.0  (landing page)
Bioconductor Package Maintainer
git_last_commit: 463a52e
git_last_commit_date: 2022-04-26 12:41:00 -0400
nebbiolo2Linux (Ubuntu 20.04.4 LTS) / x86_64  OK    OK  UNNEEDED, same version is already published
palomino4Windows Server 2022 Datacenter / x64  OK    OK  
lconwaymacOS 12.2.1 Monterey / x86_64  OK    OK  
Package 25/28HostnameOS / ArchINSTALLBUILD
simpleSingleCell 1.21.0  (landing page)
Aaron Lun
git_last_commit: 36bb713
git_last_commit_date: 2022-04-26 12:41:03 -0400
nebbiolo2Linux (Ubuntu 20.04.4 LTS) / x86_64  OK    OK  UNNEEDED, same version is already published
palomino4Windows Server 2022 Datacenter / x64... NOT SUPPORTED ...
lconwaymacOS 12.2.1 Monterey / x86_64  OK    OK  
Package 26/28HostnameOS / ArchINSTALLBUILD
SingscoreAMLMutations 1.13.0  (landing page)
Dharmesh D. Bhuva
git_last_commit: b2ae12c
git_last_commit_date: 2022-04-26 12:41:22 -0400
nebbiolo2Linux (Ubuntu 20.04.4 LTS) / x86_64  OK    ERROR  
palomino4Windows Server 2022 Datacenter / x64  OK    ERROR  
lconwaymacOS 12.2.1 Monterey / x86_64  OK    ERROR  
Package 27/28HostnameOS / ArchINSTALLBUILD
TCGAWorkflow 1.21.0  (landing page)
Tiago Chedraoui Silva
git_last_commit: f3120cc
git_last_commit_date: 2022-04-26 12:41:06 -0400
nebbiolo2Linux (Ubuntu 20.04.4 LTS) / x86_64  OK    ERROR  
palomino4Windows Server 2022 Datacenter / x64  OK    ERROR  
lconwaymacOS 12.2.1 Monterey / x86_64  ERROR    ERROR  
Package 28/28HostnameOS / ArchINSTALLBUILD
variants 1.21.0  (landing page)
Bioconductor Package Maintainer
git_last_commit: 6418786
git_last_commit_date: 2022-04-26 12:41:08 -0400
nebbiolo2Linux (Ubuntu 20.04.4 LTS) / x86_64  OK    OK  UNNEEDED, same version is already published
palomino4Windows Server 2022 Datacenter / x64  OK    OK  
lconwaymacOS 12.2.1 Monterey / x86_64  OK    OK