Index of /checkResults/devel/workflows-LATEST/highthroughputassays/raw-results/nebbiolo2

[ICO]NameLast modifiedSizeDescription

[DIR]Parent Directory  -  
[TXT]buildsrc-out.txt06-Aug-2022 10:00 932  
[   ]buildsrc-summary.dcf06-Aug-2022 10:00 456  
[TXT]install-out.txt06-Aug-2022 10:00 1.2K 
[   ]install-summary.dcf06-Aug-2022 10:00 285