Index of /checkResults/devel/workflows-LATEST/highthroughputassays/raw-results

[ICO]NameLast modifiedSizeDescription

[DIR]Parent Directory  -  
[   ]info.dcf06-Aug-2022 10:00 317  
[DIR]nebbiolo2/06-Aug-2022 10:00 -