Index of /checkResults/devel/workflows-LATEST/generegulation/raw-results/palomino4
Name
Last modified
Size
Description
Parent Directory
-
buildsrc-out.txt
15-Jun-2024 05:30
946
buildsrc-summary.dcf
15-Jun-2024 05:30
481
install-out.txt
15-Jun-2024 05:30
1.1K
install-summary.dcf
15-Jun-2024 05:30
283