Index of /checkResults/devel/workflows-LATEST/generegulation/raw-results/lconway
Name
Last modified
Size
Description
Parent Directory
-
buildsrc-out.txt
10-Jul-2024 05:30
918
buildsrc-summary.dcf
10-Jul-2024 05:30
448
install-out.txt
10-Jul-2024 05:30
1.1K
install-summary.dcf
10-Jul-2024 05:30
283