Back to Workflows build report for BioC 3.18

This page was generated on 2023-09-22 14:00:11 -0400 (Fri, 22 Sep 2023).

HostnameOSArch (*)R versionInstalled pkgs
nebbiolo2Linux (Ubuntu 22.04.2 LTS)x86_644.3.1 (2023-06-16) -- "Beagle Scouts" 4659
palomino4Windows Server 2022 Datacenterx644.3.1 (2023-06-16 ucrt) -- "Beagle Scouts" 4394
lconwaymacOS 12.6.5 Montereyx86_644.3.1 Patched (2023-06-17 r84564) -- "Beagle Scouts" 4408
Click on any hostname to see more info about the system (e.g. compilers)      (*) as reported by 'uname -p', except on Windows and Mac OS X

Package 13/30HostnameOS / ArchINSTALLBUILD
generegulation 1.25.0  (landing page)
Bioconductor Package Maintainer
Snapshot Date: 2023-09-22 10:45:01 -0400 (Fri, 22 Sep 2023)
git_url: https://git.bioconductor.org/packages/generegulation
git_branch: devel
git_last_commit: 93a991b
git_last_commit_date: 2023-04-25 09:45:28 -0400 (Tue, 25 Apr 2023)
nebbiolo2Linux (Ubuntu 22.04.2 LTS) / x86_64  OK    OK  UNNEEDED, same version is already published
palomino4Windows Server 2022 Datacenter / x64  OK    OK  
lconwaymacOS 12.6.5 Monterey / x86_64  OK    OK  

BUILD results for generegulation on palomino4


To the developers/maintainers of the generegulation package:
- Use the following Renviron settings to reproduce errors and warnings.
- If 'R CMD check' started to fail recently on the Linux builder(s) over a missing dependency, add the missing dependency to 'Suggests:' in your DESCRIPTION file. See Renviron.bioc for more information.

raw results


Summary

Package: generegulation
Version: 1.25.0
Command: chmod a+r generegulation -R && F:\biocbuild\bbs-3.18-bioc\R\bin\R.exe CMD build --keep-empty-dirs --no-resave-data generegulation
StartedAt: 2023-09-22 11:05:56 -0400 (Fri, 22 Sep 2023)
EndedAt: 2023-09-22 11:07:03 -0400 (Fri, 22 Sep 2023)
EllapsedTime: 66.9 seconds
RetCode: 0
Status:   OK  
PackageFile: generegulation_1.25.0.tar.gz
PackageFileSize: 1.236 MiB

Command output

##############################################################################
##############################################################################
###
### Running command:
###
###   chmod a+r generegulation -R && F:\biocbuild\bbs-3.18-bioc\R\bin\R.exe CMD build --keep-empty-dirs --no-resave-data generegulation
###
##############################################################################
##############################################################################


* checking for file 'generegulation/DESCRIPTION' ... OK
* preparing 'generegulation':
* checking DESCRIPTION meta-information ... OK
* installing the package to build vignettes
* creating vignettes ... OK
* checking for LF line-endings in source and make files and shell scripts
* checking for empty or unneeded directories
Omitted 'LazyData' from DESCRIPTION
* creating default NAMESPACE file
* building 'generegulation_1.25.0.tar.gz'