Index of /checkResults/devel/workflows-LATEST/cytofWorkflow/raw-results
Name
Last modified
Size
Description
Parent Directory
-
palomino6/
10-Jul-2024 05:30
-
palomino4/
15-Jun-2024 05:30
-
nebbiolo2/
10-Jul-2024 05:30
-
merida1/
12-Jun-2024 05:30
-
lconway/
10-Jul-2024 05:30
-
info.dcf
10-Jul-2024 05:30
284