Back to Workflows build report for BioC 3.19 |
This page was generated on 2024-03-26 14:00:10 -0400 (Tue, 26 Mar 2024).
Hostname | OS | Arch (*) | R version | Installed pkgs |
---|---|---|---|---|
nebbiolo1 | Linux (Ubuntu 22.04.3 LTS) | x86_64 | R Under development (unstable) (2024-03-18 r86148) -- "Unsuffered Consequences" | 4696 |
palomino3 | Windows Server 2022 Datacenter | x64 | R Under development (unstable) (2024-03-16 r86144 ucrt) -- "Unsuffered Consequences" | 4434 |
lconway | macOS 12.7.1 Monterey | x86_64 | R Under development (unstable) (2024-03-18 r86148) -- "Unsuffered Consequences" | 4459 |
Click on any hostname to see more info about the system (e.g. compilers) (*) as reported by 'uname -p', except on Windows and Mac OS X |
Package 8/30 | Hostname | OS / Arch | INSTALL | BUILD | ||||||||
cytofWorkflow 1.27.1 (landing page) Mark D. Robinson
| nebbiolo1 | Linux (Ubuntu 22.04.3 LTS) / x86_64 | OK | ERROR | ||||||||
palomino3 | Windows Server 2022 Datacenter / x64 | OK | OK | |||||||||
lconway | macOS 12.7.1 Monterey / x86_64 | OK | ERROR | |||||||||
To the developers/maintainers of the cytofWorkflow package: - Use the following Renviron settings to reproduce errors and warnings. - If 'R CMD check' started to fail recently on the Linux builder(s) over a missing dependency, add the missing dependency to 'Suggests:' in your DESCRIPTION file. See Renviron.bioc for more information. |
Package: cytofWorkflow |
Version: 1.27.1 |
Command: chmod a+r cytofWorkflow -R && F:\biocbuild\bbs-3.19-bioc\R\bin\R.exe CMD build --keep-empty-dirs --no-resave-data cytofWorkflow |
StartedAt: 2024-03-26 11:06:07 -0400 (Tue, 26 Mar 2024) |
EndedAt: 2024-03-26 11:14:18 -0400 (Tue, 26 Mar 2024) |
EllapsedTime: 490.7 seconds |
RetCode: 0 |
Status: OK |
PackageFile: cytofWorkflow_1.27.1.tar.gz |
PackageFileSize: 2.527 MiB |
############################################################################## ############################################################################## ### ### Running command: ### ### chmod a+r cytofWorkflow -R && F:\biocbuild\bbs-3.19-bioc\R\bin\R.exe CMD build --keep-empty-dirs --no-resave-data cytofWorkflow ### ############################################################################## ############################################################################## * checking for file 'cytofWorkflow/DESCRIPTION' ... OK * preparing 'cytofWorkflow': * checking DESCRIPTION meta-information ... OK * installing the package to build vignettes * creating vignettes ... OK * checking for LF line-endings in source and make files and shell scripts * checking for empty or unneeded directories Omitted 'LazyData' from DESCRIPTION * building 'cytofWorkflow_1.27.1.tar.gz'