Index of /checkResults/devel/workflows-LATEST/csawUsersGuide/raw-results/nebbiolo2
Name
Last modified
Size
Description
Parent Directory
-
buildsrc-out.txt
10-Jul-2024 05:30
868
buildsrc-summary.dcf
10-Jul-2024 05:30
437
install-out.txt
10-Jul-2024 05:30
968
install-summary.dcf
10-Jul-2024 05:30
272