Index of /checkResults/devel/workflows-LATEST/csawUsersGuide/raw-results
Name
Last modified
Size
Description
Parent Directory
-
info.dcf
12-Jun-2024 05:30
296
nebbiolo2/
12-Jun-2024 05:30
-
palomino4/
12-Jun-2024 05:30
-
merida1/
12-Jun-2024 05:30
-