Index of /checkResults/devel/workflows-LATEST/chipseqDB/raw-results
Name
Last modified
Size
Description
Parent Directory
-
info.dcf
04-May-2024 03:00
286
merida1/
04-May-2024 03:00
-
nebbiolo2/
04-May-2024 03:00
-