Index of /checkResults/devel/workflows-LATEST/arrays/raw-results/palomino6
Name
Last modified
Size
Description
Parent Directory
-
buildsrc-out.txt
10-Jul-2024 05:30
840
buildsrc-summary.dcf
10-Jul-2024 05:30
453
install-out.txt
10-Jul-2024 05:30
953
install-summary.dcf
10-Jul-2024 05:30
271