Index of /checkResults/devel/workflows-LATEST/arrays/raw-results/palomino4
Name
Last modified
Size
Description
Parent Directory
-
buildsrc-out.txt
15-Jun-2024 05:30
834
buildsrc-summary.dcf
15-Jun-2024 05:30
447
install-out.txt
15-Jun-2024 05:30
941
install-summary.dcf
15-Jun-2024 05:30
266