Index of /checkResults/devel/workflows-LATEST/arrays/raw-results/nebbiolo2
Name
Last modified
Size
Description
Parent Directory
-
buildsrc-out.txt
10-Jul-2024 05:30
802
buildsrc-summary.dcf
10-Jul-2024 05:30
413
install-out.txt
10-Jul-2024 05:30
936
install-summary.dcf
10-Jul-2024 05:30
256