Index of /checkResults/devel/workflows-LATEST/annotation/raw-results/palomino6
Name
Last modified
Size
Description
Parent Directory
-
buildsrc-out.txt
10-Jul-2024 05:30
932
buildsrc-summary.dcf
10-Jul-2024 05:30
471
install-out.txt
10-Jul-2024 05:30
960
install-summary.dcf
10-Jul-2024 05:30
280