Index of /checkResults/devel/workflows-LATEST/annotation/raw-results/merida1
Name
Last modified
Size
Description
Parent Directory
-
buildsrc-out.txt
18-May-2024 03:00
902
buildsrc-summary.dcf
18-May-2024 03:00
437
install-out.txt
18-May-2024 03:00
1.0K
install-summary.dcf
18-May-2024 03:00
275