Index of /checkResults/devel/workflows-LATEST/SingscoreAMLMutations/raw-results/lconway
Name
Last modified
Size
Description
Parent Directory
-
buildsrc-out.txt
10-Jul-2024 05:30
1.4K
buildsrc-summary.dcf
10-Jul-2024 05:30
470
install-out.txt
10-Jul-2024 05:30
1.6K
install-summary.dcf
10-Jul-2024 05:30
297