Index of /checkResults/devel/workflows-LATEST/RNAseq123/raw-results/merida1
Name
Last modified
Size
Description
Parent Directory
-
buildsrc-out.txt
22-May-2024 03:00
898
buildsrc-summary.dcf
22-May-2024 03:00
434
install-out.txt
22-May-2024 03:00
1.0K
install-summary.dcf
22-May-2024 03:00
273