Index of /checkResults/devel/workflows-LATEST/GeoMxWorkflows/raw-results/palomino4

[ICO]NameLast modifiedSizeDescription

[DIR]Parent Directory  -  
[TXT]buildsrc-out.txt13-Aug-2022 10:00 873  
[   ]buildsrc-summary.dcf13-Aug-2022 10:00 480  
[TXT]install-out.txt13-Aug-2022 10:00 1.9K 
[   ]install-summary.dcf13-Aug-2022 10:00 690