Index of /checkResults/devel/workflows-LATEST/GeoMxWorkflows/raw-results/lconway
Name
Last modified
Size
Description
Parent Directory
-
install-summary.dcf
27-Mar-2024 03:00
282
install-out.txt
27-Mar-2024 03:00
1.0K
buildsrc-summary.dcf
27-Mar-2024 03:00
357
buildsrc-out.txt
27-Mar-2024 03:00
1.3K