Index of /checkResults/devel/workflows-LATEST/GeoMxWorkflows/raw-results/lconway

[ICO]NameLast modifiedSizeDescription

[DIR]Parent Directory  -  
[TXT]buildsrc-out.txt17-Aug-2022 10:00 843  
[   ]buildsrc-summary.dcf17-Aug-2022 10:00 448  
[TXT]install-out.txt17-Aug-2022 10:00 1.0K 
[   ]install-summary.dcf17-Aug-2022 10:00 282