Index of /checkResults/devel/workflows-LATEST/GeoMxWorkflows/raw-results

[ICO]NameLast modifiedSizeDescription

[DIR]Parent Directory  -  
[DIR]nebbiolo2/17-Aug-2022 10:00 -  
[DIR]palomino4/17-Aug-2022 10:00 -  
[   ]info.dcf17-Aug-2022 10:00 280  
[DIR]lconway/17-Aug-2022 10:00 -