Back to Workflows build report for BioC 3.18

This page was generated on 2023-09-29 14:00:12 -0400 (Fri, 29 Sep 2023).

HostnameOSArch (*)R versionInstalled pkgs
nebbiolo2Linux (Ubuntu 22.04.2 LTS)x86_644.3.1 (2023-06-16) -- "Beagle Scouts" 4660
palomino4Windows Server 2022 Datacenterx644.3.1 (2023-06-16 ucrt) -- "Beagle Scouts" 4395
lconwaymacOS 12.6.5 Montereyx86_644.3.1 Patched (2023-06-17 r84564) -- "Beagle Scouts" 4415
Click on any hostname to see more info about the system (e.g. compilers)      (*) as reported by 'uname -p', except on Windows and Mac OS X

Package 14/30HostnameOS / ArchINSTALLBUILD
GeoMxWorkflows 1.7.0  (landing page)
Jason Reeves
Snapshot Date: 2023-09-29 10:45:01 -0400 (Fri, 29 Sep 2023)
git_url: https://git.bioconductor.org/packages/GeoMxWorkflows
git_branch: devel
git_last_commit: 0a03149
git_last_commit_date: 2023-04-25 09:46:43 -0400 (Tue, 25 Apr 2023)
nebbiolo2Linux (Ubuntu 22.04.2 LTS) / x86_64  OK    OK  UNNEEDED, same version is already published
palomino4Windows Server 2022 Datacenter / x64  OK    OK  
lconwaymacOS 12.6.5 Monterey / x86_64  OK    OK  

BUILD results for GeoMxWorkflows on palomino4


To the developers/maintainers of the GeoMxWorkflows package:
- Use the following Renviron settings to reproduce errors and warnings.
- If 'R CMD check' started to fail recently on the Linux builder(s) over a missing dependency, add the missing dependency to 'Suggests:' in your DESCRIPTION file. See Renviron.bioc for more information.

raw results


Summary

Package: GeoMxWorkflows
Version: 1.7.0
Command: chmod a+r GeoMxWorkflows -R && F:\biocbuild\bbs-3.18-bioc\R\bin\R.exe CMD build --keep-empty-dirs --no-resave-data GeoMxWorkflows
StartedAt: 2023-09-29 11:05:52 -0400 (Fri, 29 Sep 2023)
EndedAt: 2023-09-29 11:24:32 -0400 (Fri, 29 Sep 2023)
EllapsedTime: 1119.6 seconds
RetCode: 0
Status:   OK  
PackageFile: GeoMxWorkflows_1.7.0.tar.gz
PackageFileSize: 18.4 MiB

Command output

##############################################################################
##############################################################################
###
### Running command:
###
###   chmod a+r GeoMxWorkflows -R && F:\biocbuild\bbs-3.18-bioc\R\bin\R.exe CMD build --keep-empty-dirs --no-resave-data GeoMxWorkflows
###
##############################################################################
##############################################################################


* checking for file 'GeoMxWorkflows/DESCRIPTION' ... OK
* preparing 'GeoMxWorkflows':
* checking DESCRIPTION meta-information ... OK
* installing the package to build vignettes
* creating vignettes ... OK
* checking for LF line-endings in source and make files and shell scripts
* checking for empty or unneeded directories
* building 'GeoMxWorkflows_1.7.0.tar.gz'