Index of /checkResults/devel/workflows-LATEST/ExpressionNormalizationWorkflow/raw-results/palomino6
Name
Last modified
Size
Description
Parent Directory
-
buildsrc-out.txt
10-Jul-2024 05:30
1.0K
buildsrc-summary.dcf
10-Jul-2024 05:30
554
install-out.txt
10-Jul-2024 05:30
2.0K
install-summary.dcf
10-Jul-2024 05:30
322