Index of /checkResults/devel/workflows-LATEST/ExpressionNormalizationWorkflow/raw-results/palomino4
Name
Last modified
Size
Description
Parent Directory
-
buildsrc-out.txt
15-Jun-2024 05:30
1.0K
buildsrc-summary.dcf
15-Jun-2024 05:30
548
install-out.txt
15-Jun-2024 05:30
2.0K
install-summary.dcf
15-Jun-2024 05:30
316