Index of /checkResults/devel/workflows-LATEST/ExpressionNormalizationWorkflow/raw-results/nebbiolo2
Name
Last modified
Size
Description
Parent Directory
-
buildsrc-out.txt
10-Jul-2024 05:30
942
buildsrc-summary.dcf
10-Jul-2024 05:30
490
install-out.txt
10-Jul-2024 05:30
2.0K
install-summary.dcf
10-Jul-2024 05:30
307