Index of /checkResults/devel/workflows-LATEST/ExpressionNormalizationWorkflow/raw-results/merida1
Name
Last modified
Size
Description
Parent Directory
-
buildsrc-out.txt
12-Jun-2024 05:30
952
buildsrc-summary.dcf
12-Jun-2024 05:30
500
install-out.txt
12-Jun-2024 05:30
2.1K
install-summary.dcf
12-Jun-2024 05:30
317