Back to Workflows build report for BioC 3.18

This page was generated on 2023-09-22 14:00:11 -0400 (Fri, 22 Sep 2023).

HostnameOSArch (*)R versionInstalled pkgs
nebbiolo2Linux (Ubuntu 22.04.2 LTS)x86_644.3.1 (2023-06-16) -- "Beagle Scouts" 4659
palomino4Windows Server 2022 Datacenterx644.3.1 (2023-06-16 ucrt) -- "Beagle Scouts" 4394
lconwaymacOS 12.6.5 Montereyx86_644.3.1 Patched (2023-06-17 r84564) -- "Beagle Scouts" 4408
Click on any hostname to see more info about the system (e.g. compilers)      (*) as reported by 'uname -p', except on Windows and Mac OS X

Package 9/30HostnameOS / ArchINSTALLBUILD
EGSEA123 1.25.0  (landing page)
Matthew Ritchie
Snapshot Date: 2023-09-22 10:45:01 -0400 (Fri, 22 Sep 2023)
git_url: https://git.bioconductor.org/packages/EGSEA123
git_branch: devel
git_last_commit: d15112b
git_last_commit_date: 2023-04-25 09:45:21 -0400 (Tue, 25 Apr 2023)
nebbiolo2Linux (Ubuntu 22.04.2 LTS) / x86_64  OK    OK  NO, package depends on 'EGSEA' which is not available
palomino4Windows Server 2022 Datacenter / x64  OK    OK  
lconwaymacOS 12.6.5 Monterey / x86_64  OK    OK  

INSTALL results for EGSEA123 on palomino4


To the developers/maintainers of the EGSEA123 package:
- Use the following Renviron settings to reproduce errors and warnings.
- If 'R CMD check' started to fail recently on the Linux builder(s) over a missing dependency, add the missing dependency to 'Suggests:' in your DESCRIPTION file. See Renviron.bioc for more information.

raw results


Summary

Package: EGSEA123
Version: 1.25.0
Command: F:\biocbuild\bbs-3.18-bioc\R\bin\R.exe CMD INSTALL EGSEA123
StartedAt: 2023-09-22 11:02:28 -0400 (Fri, 22 Sep 2023)
EndedAt: 2023-09-22 11:03:00 -0400 (Fri, 22 Sep 2023)
EllapsedTime: 32.1 seconds
RetCode: 0
Status:   OK  

Command output

##############################################################################
##############################################################################
###
### Running command:
###
###   F:\biocbuild\bbs-3.18-bioc\R\bin\R.exe CMD INSTALL EGSEA123
###
##############################################################################
##############################################################################


* installing to library 'F:/biocbuild/bbs-3.18-bioc/R/library'
* installing *source* package 'EGSEA123' ...
** using staged installation
** help
No man pages found in package  'EGSEA123' 
*** installing help indices
** building package indices
** installing vignettes
** testing if installed package can be loaded from temporary location

groupGOTerms: 	GOBPTerm, GOMFTerm, GOCCTerm environments built.
** testing if installed package can be loaded from final location

groupGOTerms: 	GOBPTerm, GOMFTerm, GOCCTerm environments built.
** testing if installed package keeps a record of temporary installation path
* DONE (EGSEA123)