Index of /checkResults/devel/workflows-LATEST/CAGEWorkflow/raw-results
Name
Last modified
Size
Description
Parent Directory
-
info.dcf
01-Jun-2024 05:30
279
merida1/
01-Jun-2024 05:30
-
nebbiolo2/
01-Jun-2024 05:30
-