Index of /checkResults/devel/workflows-LATEST/BiocMetaWorkflow/raw-results/palomino4
Name
Last modified
Size
Description
Parent Directory
-
buildsrc-out.txt
15-Jun-2024 05:30
919
buildsrc-summary.dcf
15-Jun-2024 05:30
488
install-out.txt
15-Jun-2024 05:30
972
install-summary.dcf
15-Jun-2024 05:30
286