Index of /checkResults/devel/workflows-LATEST/BiocMetaWorkflow/raw-results/merida1
Name
Last modified
Size
Description
Parent Directory
-
buildsrc-out.txt
12-Jun-2024 05:30
886
buildsrc-summary.dcf
12-Jun-2024 05:30
454
install-out.txt
12-Jun-2024 05:30
1.0K
install-summary.dcf
12-Jun-2024 05:30
286