Back to Workflows build report for BioC 3.18 |
This page was generated on 2023-09-22 14:00:11 -0400 (Fri, 22 Sep 2023).
Hostname | OS | Arch (*) | R version | Installed pkgs |
---|---|---|---|---|
nebbiolo2 | Linux (Ubuntu 22.04.2 LTS) | x86_64 | 4.3.1 (2023-06-16) -- "Beagle Scouts" | 4659 |
palomino4 | Windows Server 2022 Datacenter | x64 | 4.3.1 (2023-06-16 ucrt) -- "Beagle Scouts" | 4394 |
lconway | macOS 12.6.5 Monterey | x86_64 | 4.3.1 Patched (2023-06-17 r84564) -- "Beagle Scouts" | 4408 |
Click on any hostname to see more info about the system (e.g. compilers) (*) as reported by 'uname -p', except on Windows and Mac OS X |
Package 3/30 | Hostname | OS / Arch | INSTALL | BUILD | ||||||||
BiocMetaWorkflow 1.23.0 (landing page) Mike Smith
| nebbiolo2 | Linux (Ubuntu 22.04.2 LTS) / x86_64 | OK | OK | ![]() | |||||||
palomino4 | Windows Server 2022 Datacenter / x64 | OK | OK | |||||||||
lconway | macOS 12.6.5 Monterey / x86_64 | OK | OK | |||||||||
To the developers/maintainers of the BiocMetaWorkflow package: - Use the following Renviron settings to reproduce errors and warnings. - If 'R CMD check' started to fail recently on the Linux builder(s) over a missing dependency, add the missing dependency to 'Suggests:' in your DESCRIPTION file. See Renviron.bioc for more information. |
Package: BiocMetaWorkflow |
Version: 1.23.0 |
Command: chmod a+r BiocMetaWorkflow -R && F:\biocbuild\bbs-3.18-bioc\R\bin\R.exe CMD build --keep-empty-dirs --no-resave-data BiocMetaWorkflow |
StartedAt: 2023-09-22 11:05:44 -0400 (Fri, 22 Sep 2023) |
EndedAt: 2023-09-22 11:06:01 -0400 (Fri, 22 Sep 2023) |
EllapsedTime: 17.6 seconds |
RetCode: 0 |
Status: OK |
PackageFile: BiocMetaWorkflow_1.23.0.tar.gz |
PackageFileSize: 401.3 KiB |
############################################################################## ############################################################################## ### ### Running command: ### ### chmod a+r BiocMetaWorkflow -R && F:\biocbuild\bbs-3.18-bioc\R\bin\R.exe CMD build --keep-empty-dirs --no-resave-data BiocMetaWorkflow ### ############################################################################## ############################################################################## * checking for file 'BiocMetaWorkflow/DESCRIPTION' ... OK * preparing 'BiocMetaWorkflow': * checking DESCRIPTION meta-information ... OK * installing the package to build vignettes * creating vignettes ... OK * checking for LF line-endings in source and make files and shell scripts * checking for empty or unneeded directories * creating default NAMESPACE file * building 'BiocMetaWorkflow_1.23.0.tar.gz'